BEGIN:VCALENDAR
VERSION:2.0
PRODID:-//pretix//pretix.eu//
BEGIN:VTIMEZONE
TZID:Europe/Lisbon
BEGIN:STANDARD
DTSTART:20001029T030000
RRULE:FREQ=YEARLY;BYDAY=-1SU;BYMONTH=10
TZNAME:WET
TZOFFSETFROM:+0100
TZOFFSETTO:+0000
END:STANDARD
BEGIN:DAYLIGHT
DTSTART:20000326T020000
RRULE:FREQ=YEARLY;BYDAY=-1SU;BYMONTH=3
TZNAME:WEST
TZOFFSETFROM:+0000
TZOFFSETTO:+0100
END:DAYLIGHT
END:VTIMEZONE
BEGIN:VEVENT
UID:pretix-hackathonspt-atlanticohacks25-0@events.hackathons.pt
DTSTART;TZID=Europe/Lisbon:20251122T120000
DTEND;TZID=Europe/Lisbon:20251123T120000
DESCRIPTION:Tickets: https://events.hackathons.pt/atlanticohacks25/\nOrgani
 zer: hackathons.pt
DTSTAMP:20260420T092139Z
LOCATION:Colégio Atlântico
SUMMARY:atlânticoHacks 2025
END:VEVENT
END:VCALENDAR
